Workbook
Name _DAT1: '[1]Balancete 0507'!#REF!
Name _DAT10: #REF!
Name _DAT11: #REF!
Name _DAT12: #REF!
Name _DAT13: #REF!
Name _DAT14: #REF!
Name _DAT15: #REF!
Name _DAT16: #REF!
Name _DAT2: '[1]Balancete 0507'!#REF!
Name _DAT3: '[1]Balancete 0507'!#REF!
Name _DAT4: '[1]Balancete 0507'!#REF!
Name _DAT5: '[1]Balancete 0507'!#REF!
Name _DAT6: '[1]Balancete 0507'!#REF!
Name _DAT7: '[1]Balancete 0507'!#REF!
Name _DAT8: '[1]Balancete 0507'!#REF!
Name _DAT9: #REF!
Name _DATgabi: '[1]Balancete 0507'!#REF!
Name _dez2006: #REF!
Name _E722001: [2]E72_2001!$A:$IV
Name _e722002: [2]E72_2002!$A:$IV
Name _E732002: [3]E73_2002!$A:$IV
Name _e742001: [4]E74_2001!$A:$IV
Name _e742002: [4]E74_2002!$A:$IV
Name _e752002: [5]E75_2002!$A:$IV
Name _e772002: #REF!
Name _e782002: #REF!
Name _nov2006: #REF!
Name _Toc71818716: '% Venda e POC | % Sold and POC'!#REF!
Name _Toc71818844: '% Venda e POC | % Sold and POC'!#REF!
Name adjnetincome: #REF!
Name antec01: #REF!
Name antec72: #REF!
Name antece66: #REF!
Name ANTECIPAÇÃO: #REF!
Name antecipacaoe66: #REF!
Name bnone: #REF!
Name break: #REF!
Name breakage: Menu!#REF!
Name breakage: #REF!
Name breakagedefrev: #REF!
Name breakagere: #REF!
Name breakagereDvex: #REF!
Name breakagerev: #REF!
Name breakagerevex: #REF!
Name burnearn: #REF!
Name changefutcosts: #REF!
Name COEF.: [6]rec_dif!#REF!
Name D_1: #REF!
Name data: 'Data|Dados'!$F$1
Name deb: #REF!
Name debenture: #REF!
Name example_breakage: #REF!
Name example_changecost: #REF!
Name example_revenue: #REF!
Name examples: #REF!
Name FF_51: #REF!
Name FF_52: #REF!
Name gbillingspoints: #REF!
Name glossary: #REF!
Name hungara: #REF!

Sheet Menu
A5: H I S T O R I C A L D A T A | B5: D A D O S H I S T Ó R I C O S | D5: =IF($G$10="English",A5,B5) -> D A D O S H I S T Ó R I C O S
A8: Investor Relations Contacts | B8: Contato Relações com Investidores | D8: =IF($G$10="English",A8,B8) -> Contato Relações com Investidores
A10: Juliano Melnick – CFO e DRI | B10: Juliano Melnick – CFO e DRI | D10: =IF($G$10="English",A10,B10) -> Juliano Melnick – CFO e DRI | F10: =IF(G10="English","Language","Idioma") -> Idioma | G10: Português
A11: Joelson Barbosa Boeira - Administrative and IR Director | B11: Joelson Barbosa Boeira - Diretor Administrativo e de RI | D11: =IF($G$10="English",A11,B11) -> Joelson Barbosa Boeira - Diretor Administrativo e de RI | F11: =IF(G10="English","Version","Versão") -> Versão | G11: =IF(G10="Português","30/06/2026","06.30.2026") -> 30/06/2026
A12: Ricardo Costa Ponce – Accounting and IR Manager | B12: Ricardo Costa Ponce - Gerente de Contabilidade e de RI | D12: =IF($G$10="English",A12,B12) -> Ricardo Costa Ponce - Gerente de Contabilidade e de RI
A15: ri@melnick.com.br | B15: ri@melnick.com.br | D15: =IF($G$10="English",A15,B15) -> ri@melnick.com.br
A16: http://ri.melnick.com.br/ | B16: http://ri.melnick.com.br/ | D16: =IF($G$10="English",A16,B16) -> http://ri.melnick.com.br/

Sheet Data|Dados
A6: OPERATIONALS & FINANCIALS | LAUNCHES | B6: OPERACIONAIS & FINANCEIROS | LANÇAMENTOS | F6: =IF(Menu!$G$10="English",A6,B6) -> OPERACIONAIS & FINANCEIROS | LANÇAMENTOS
A7: Items | B7: Itens | C7: Unit | D7: Unidade | F7: =IF(Menu!$G$10="English",A7,B7) -> Itens | G7: =IF(Menu!$G$10="English",C7,D7) -> Unidade | H7: 2017 | I7: 2018 | J7: 2019 | K7: =IF(Menu!$G$10="PORTUGUÊS","1T20","1Q20") -> 1T20 | L7: =IF(Menu!$G$10="PORTUGUÊS","2T20","2Q20") -> 2T20 | M7: =IF(Menu!$G$10="PORTUGUÊS","3T20","3Q20") -> 3T20 | N7: =IF(Menu!$G$10="PORTUGUÊS","4T20","4Q20") -> 4T20 | O7: =IF(Menu!$G$10="PORTUGUÊS","1T21","1Q21") -> 1T21 | P7: =IF(Menu!$G$10="PORTUGUÊS","2T21","2Q21") -> 2T21 | Q7: =IF(Menu!$G$10="PORTUGUÊS","3T21","3Q21") -> 3T21 | R7: =IF(Menu!$G$10="PORTUGUÊS","4T21","4Q21") -> 4T21 | S7: =IF(Menu!$G$10="PORTUGUÊS","1T22","1Q22") -> 1T22 | T7: =IF(Menu!$G$10="PORTUGUÊS","2T22","2Q22") -> 2T22 | U7: =IF(Menu!$G$10="PORTUGUÊS","3T22","3Q22") -> 3T22 | V7: =IF(Menu!$G$10="PORTUGUÊS","4T22","4Q22") -> 4T22 | W7: =IF(Menu!$G$10="PORTUGUÊS","1T23","1Q23") -> 1T23 | X7: =IF(Menu!$G$10="PORTUGUÊS","2T23","2Q23") -> 2T23 | Y7: =IF(Menu!$G$10="PORTUGUÊS","3T23","3Q23") -> 3T23 | Z7: =IF(Menu!$G$10="PORTUGUÊS","4T23","4Q23") -> 4T23 | AA7: =IF(Menu!$G$10="PORTUGUÊS","1T24","1Q24") -> 1T24 | AB7: =IF(Menu!$G$10="PORTUGUÊS","2T24","2Q24") -> 2T24 | AC7: =IF(Menu!$G$10="PORTUGUÊS","3T24","3Q24") -> 3T24 | AD7: =IF(Menu!$G$10="PORTUGUÊS","4T24","4Q24") -> 4T24 | AE7: =IF(Menu!$G$10="PORTUGUÊS","1T25","1Q25") -> 1T25 | AF7: =IF(Menu!$G$10="PORTUGUÊS","2T25","2Q25") -> 2T25 | AG7: =IF(Menu!$G$10="PORTUGUÊS","3T25","3Q25") -> 3T25 | AH7: =IF(Menu!$G$10="PORTUGUÊS","4T25","4Q25") -> 4T25 | AI7: =IF(Menu!$G$10="PORTUGUÊS","1T26","1Q26") -> 1T26 | AJ7: =IF(Menu!$G$10="PORTUGUÊS","2T26","2Q26") -> 2T26 | AL7: 2017 | AM7: 2018 | AN7: 2019 | AO7: 2020 | AP7: 2021 | AQ7: 2022 | AR7: 2023 | AS7: 2024 | AT7: 2025 | AU7: 2026
A8: Enterprises launched | B8: Empreendimentos lançados | C8: Unit | D8: Unidade | F8: =IF(Menu!$G$10="English",A8,B8) -> Empreendimentos lançados | G8: =IF(Menu!$G$10="English",C8,D8) -> Unidade | H8: =SUM(H9:H11) -> 5 | I8: =SUM(I9:I11) -> 5 | J8: =SUM(J9:J11) -> 8 | K8: =SUM(K9:K11) -> 2 | L8: =SUM(L9:L11) -> 2 | M8: =SUM(M9:M11) -> 1 | N8: =SUM(N9:N11) -> 1 | O8: =SUM(O9:O11) -> 4 | ... AJ8: =SUM(AJ9:AJ11) -> 1 | AL8: =SUM(AL9:AL11) -> 5 | AM8: =SUM(AM9:AM11) -> 5 | AN8: =SUM(AN9:AN11) -> 8 | AO8: =SUM(AO9:AO11) -> 6 | AP8: =SUM(AP9:AP11) -> 9 | AQ8: =SUM(AQ9:AQ11) -> 10 | AR8: =SUM(AR9:AR11) -> 8 | AS8: =SUM(AS9:AS11) -> 10 | ... AU8: =SUM(AU9:AU11) -> 3
A9: Real Estate | B9: Incorporadora | C9: Incorporadora | D9: Unidade | E9: LançamentosEmpreendimentos lançadosSão Paulo | F9: =IF(Menu!$G$10="English",A9,B9) -> Incorporadora | G9: =IF(Menu!$G$10="English",C9,D9) -> Unidade | H9: 3 | I9: 4 | J9: 5 | K9: 1 | L9: 1 | M9: 1 | N9: 1 | O9: 3 | P9: 1 | Q9: 2 | R9: 2 | S9: 1 | T9: 1 | U9: 1 | V9: 1 | W9: 3 | X9: 0 | Y9: 2 | Z9: 0 | AA9: 2 | AB9: 0 | AC9: 3 | AD9: 1 | AE9: 0 | AF9: 2 | AG9: 1 | AH9: 1 | AI9: 1 | AJ9: 1 | AL9: =H9 -> 3 | AM9: =I9 -> 4 | AN9: =J9 -> 5 | AO9: =SUM(K9:N9) -> 4 | AP9: =SUM(O9:R9) -> 8 | AQ9: =SUM(S9:V9) -> 4 | AR9: =SUM(W9:Z9) -> 5 | AS9: =AA9+AB9+AC9+AD9 -> 6 | AT9: =AE9+AF9+AG9+AH9 -> 4 | AU9: =SUM(AI9:AJ9) -> 2
A10: Lot development | B10: Urbanizadora | C10: Urbanizadora | D10: Unidade | E10: LançamentosEmpreendimentos lançadosRio de Janeiro | F10: =IF(Menu!$G$10="English",A10,B10) -> Urbanizadora | G10: =IF(Menu!$G$10="English",C10,D10) -> Unidade | H10: 2 | I10: 1 | J10: 2 | K10: 1 | L10: 0 | M10: 0 | N10: 0 | O10: 1 | P10: 0 | Q10: 0 | R10: 0 | S10: 1 | T10: 0 | U10: 1 | V10: 2 | W10: 0 | X10: 0 | Y10: 1 | Z10: 2 | AA10: 0 | AB10: 0 | AC10: 0 | AD10: 2 | AE10: 0 | AF10: 0 | AG10: 0 | AH10: 0 | AI10: 0 | AJ10: 0 | AL10: =H10 -> 2 | AM10: =I10 -> 1 | AN10: =J10 -> 2 | AO10: =SUM(K10:N10) -> 1 | AP10: =SUM(O10:R10) -> 1 | AQ10: =SUM(S10:V10) -> 4 | AR10: =SUM(W10:Z10) -> 3 | AS10: =AA10+AB10+AC10+AD10 -> 2 | AT10: =AE10+AF10+AG10+AH10 -> 0 | AU10: =SUM(AI10:AJ10) -> 0
A11: Open | B11: Open | C11: Open | D11: Unidade | E11: LançamentosEmpreendimentos lançadosRio Grande do Sul | F11: =IF(Menu!$G$10="English",A11,B11) -> Open | G11: =IF(Menu!$G$10="English",C11,D11) -> Unidade | H11: 0 | I11: 0 | J11: 1 | K11: 0 | L11: 1 | M11: 0 | N11: 0 | O11: 0 | P11: 0 | Q11: 0 | R11: 0 | S11: 1 | T11: 1 | U11: 0 | V11: 0 | W11: 0 | X11: 0 | Y11: 0 | Z11: 0 | AA11: 0 | AB11: 0 | AC11: 1 | AD11: 1 | AE11: 0 | AF11: 0 | AG11: 1 | AH11: 2 | AI11: 1 | AJ11: 0 | AL11: =H11 -> 0 | AM11: =I11 -> 0 | AN11: =J11 -> 1 | AO11: =SUM(K11:N11) -> 1 | AP11: =SUM(O11:R11) -> 0 | AQ11: =SUM(S11:V11) -> 2 | AR11: =SUM(W11:Z11) -> 0 | AS11: =AA11+AB11+AC11+AD11 -> 2 | AT11: =AE11+AF11+AG11+AH11 -> 3 | AU11: =SUM(AI11:AJ11) -> 1
A13: Units launched | B13: Unidades lançadas | C13: Unit | D13: Unidade | F13: =IF(Menu!$G$10="English",A13,B13) -> Unidades lançadas | G13: =IF(Menu!$G$10="English",C13,D13) -> Unidade | H13: =SUM(H14:H16) -> 1052 | I13: =SUM(I14:I16) -> 764.65719 | J13: =SUM(J14:J16) -> 1442 | K13: =SUM(K14:K16) -> 498 | L13: =SUM(L14:L16) -> 322 | M13: =SUM(M14:M16) -> 179 | N13: =SUM(N14:N16) -> 184 | O13: =SUM(O14:O16) -> 807.75 | ... AJ13: =SUM(AJ14:AJ16) -> 74 | AL13: =SUM(AL14:AL16) -> 1052 | AM13: =SUM(AM14:AM16) -> 764.65719 | AN13: =SUM(AN14:AN16) -> 1442 | AO13: =SUM(AO14:AO16) -> 1183 | AP13: =SUM(AP14:AP16) -> 1338.75 | AQ13: =SUM(AQ14:AQ16) -> 1884 | AR13: =SUM(AR14:AR16) -> 1219 | AS13: =SUM(AS14:AS16) -> 1713 | ... AU13: =SUM(AU14:AU16) -> 323
A14: Real Estate | B14: Incorporadora | C14: Unit | D14: Unidade | E14: LançamentosUnidades lançadasSão Paulo | F14: =IF(Menu!$G$10="English",A14,B14) -> Incorporadora | G14: =IF(Menu!$G$10="English",C14,D14) -> Unidade | H14: 581 | I14: 615 | J14: 725 | K14: 153 | L14: 82 | M14: 179 | N14: 184 | O14: 475.75 | P14: 49 | Q14: 62 | R14: 420 | S14: 120 | T14: 275 | U14: 73 | V14: 112 | W14: 452 | X14: 0 | Y14: 286 | Z14: 0 | AA14: 164 | AB14: 0 | AC14: 467 | AD14: 61 | AE14: 0 | AF14: 209 | AG14: 143 | AH14: 433 | AI14: 57 | AJ14: 74 | AL14: =H14 -> 581 | AM14: =I14 -> 615 | AN14: =J14 -> 725 | AO14: =SUM(K14:N14) -> 598 | AP14: =SUM(O14:R14) -> 1006.75 | AQ14: =SUM(S14:V14) -> 580 | AR14: =SUM(W14:Z14) -> 738 | AS14: =AA14+AB14+AC14+AD14 -> 692 | AT14: =AE14+AF14+AG14+AH14 -> 785 | AU14: =SUM(AI14:AJ14) -> 131
A15: Lot development | B15: Urbanizadora | C15: Unit | D15: Unidade | E15: LançamentosUnidades lançadasRio de Janeiro | F15: =IF(Menu!$G$10="English",A15,B15) -> Urbanizadora | G15: =IF(Menu!$G$10="English",C15,D15) -> Unidade | H15: 471 | I15: 149.65719 | J15: 517 | K15: 345 | L15: 0 | M15: 0 | N15: 0 | O15: 332 | P15: 0 | Q15: 0 | R15: 0 | S15: 299 | T15: 0 | U15: 127 | V15: 558 | W15: 0 | X15: 0 | Y15: 144 | Z15: 337 | AA15: 0 | AB15: 0 | AC15: 0 | AD15: 882 | AE15: 0 | AF15: 0 | AG15: 0 | AH15: 0 | AI15: 0 | AJ15: 0 | AL15: =H15 -> 471 | AM15: =I15 -> 149.65719 | AN15: =J15 -> 517 | AO15: =SUM(K15:N15) -> 345 | AP15: =SUM(O15:R15) -> 332 | AQ15: =SUM(S15:V15) -> 984 | AR15: =SUM(W15:Z15) -> 481 | AS15: =AA15+AB15+AC15+AD15 -> 882 | AT15: =AE15+AF15+AG15+AH15 -> 0 | AU15: =SUM(AI15:AJ15) -> 0
A16: Open | B16: Open | C16: Unit | D16: Unidade | E16: LançamentosUnidades lançadasRio Grande do Sul | F16: =IF(Menu!$G$10="English",A16,B16) -> Open | G16: =IF(Menu!$G$10="English",C16,D16) -> Unidade | H16: 0 | I16: 0 | J16: 200 | K16: 0 | L16: 240 | M16: 0 | N16: 0 | O16: 0 | P16: 0 | Q16: 0 | R16: 0 | S16: 160 | T16: 160 | U16: 0 | V16: 0 | W16: 0 | X16: 0 | Y16: 0 | Z16: 0 | AA16: 0 | AB16: 0 | AC16: 0 | AD16: 139 | AE16: 0 | AF16: 0 | AG16: 150 | AH16: 564 | AI16: 192 | AJ16: 0 | AL16: =H16 -> 0 | AM16: =I16 -> 0 | AN16: =J16 -> 200 | AO16: =SUM(K16:N16) -> 240 | AP16: =SUM(O16:R16) -> 0 | AQ16: =SUM(S16:V16) -> 320 | AR16: =SUM(W16:Z16) -> 0 | AS16: =AA16+AB16+AC16+AD16 -> 139 | AT16: =AE16+AF16+AG16+AH16 -> 714 | AU16: =SUM(AI16:AJ16) -> 192
A18: PSV of units launched (total) | B18: VGV das unidades lançadas (total) | C18: R$ thousands | D18: R$ milhares | F18: =IF(Menu!$G$10="English",A18,B18) -> VGV das unidades lançadas (total) | G18: =IF(Menu!$G$10="English",C18,D18) -> R$ milhares | H18: =SUM(H19:H21) -> 379011.24 | I18: =SUM(I19:I21) -> 500309.04 | J18: =SUM(J19:J21) -> 759578.09 | K18: =SUM(K19:K21) -> 147914.57 | L18: =SUM(L19:L21) -> 332458 | M18: =SUM(M19:M21) -> 90689 | N18: =SUM(N19:N21) -> 115170 | O18: =SUM(O19:O21) -> 470487.4 | ... AJ18: =SUM(AJ19:AJ21) -> 121908.19 | AL18: =SUM(AL19:AL21) -> 379011.24 | AM18: =SUM(AM19:AM21) -> 500309.04 | AN18: =SUM(AN19:AN21) -> 759578.09 | AO18: =SUM(AO19:AO21) -> 686231.57 | AP18: =SUM(AP19:AP21) -> 1109281.5 | AQ18: =SUM(AQ19:AQ21) -> 1270166.5 | AR18: =SUM(AR19:AR21) -> 1190850.8 | AS18: =SUM(AS19:AS21) -> 1520090.6 | ... AU18: =SUM(AU19:AU21) -> 370462.26
A19: Real Estate | B19: Incorporadora | C19: R$ thousands | D19: R$ milhares | E19: LançamentosVGV TotalSão Paulo | F19: =IF(Menu!$G$10="English",A19,B19) -> Incorporadora | G19: =IF(Menu!$G$10="English",C19,D19) -> R$ milhares | H19: 272389.69 | I19: 434012.3 | J19: 655162.09 | K19: 69762.935 | L19: 290563 | M19: 90689 | N19: 115170 | O19: 392766.26 | P19: 134105.11 | Q19: 247397 | R19: 257292 | S19: 426266.35 | T19: 185144 | U19: 196464 | V19: 62258.4 | W19: 559369.06 | X19: 0 | Y19: 351991 | Z19: 0 | AA19: 673604.72 | AB19: 0 | AC19: 283246.43 | AD19: 122052 | AE19: 0 | AF19: 402422 | AG19: 86207 | AH19: 366605 | AI19: 190194 | AJ19: 121908.19 | AL19: =H19 -> 272389.69 | AM19: =I19 -> 434012.3 | AN19: =J19 -> 655162.09 | AO19: =SUM(K19:N19) -> 566184.93 | AP19: =SUM(O19:R19) -> 1031560.4 | AQ19: =SUM(S19:V19) -> 870132.75 | AR19: =SUM(W19:Z19) -> 911360.06 | AS19: =AA19+AB19+AC19+AD19 -> 1078903.1 | AT19: =AE19+AF19+AG19+AH19 -> 855234 | AU19: =SUM(AI19:AJ19) -> 312102.19
A20: Lot development | B20: Urbanizadora | C20: R$ thousands | D20: R$ milhares | E20: LançamentosVGV TotalRio de Janeiro | F20: =IF(Menu!$G$10="English",A20,B20) -> Urbanizadora | G20: =IF(Menu!$G$10="English",C20,D20) -> R$ milhares | H20: 106621.55 | I20: 66296.735 | J20: 69476 | K20: 78151.637 | L20: 0 | M20: 0 | N20: 0 | O20: 77721.138 | P20: 0 | Q20: 0 | R20: 0 | S20: 109783.38 | T20: 0 | U20: 86761 | V20: =45125+88012.4 -> 133137.4 | W20: 0 | X20: 0 | Y20: 100340.28 | Z20: 179150.45 | AA20: 0 | AB20: 0 | AC20: 0 | AD20: 355731 | AE20: 0 | AF20: 0 | AG20: 0 | AH20: 0 | AI20: 0 | AJ20: 0 | AL20: =H20 -> 106621.55 | AM20: =I20 -> 66296.735 | AN20: =J20 -> 69476 | AO20: =SUM(K20:N20) -> 78151.637 | AP20: =SUM(O20:R20) -> 77721.138 | AQ20: =SUM(S20:V20) -> 329681.78 | AR20: =SUM(W20:Z20) -> 279490.73 | AS20: =AA20+AB20+AC20+AD20 -> 355731 | AT20: =AE20+AF20+AG20+AH20 -> 0 | AU20: =SUM(AI20:AJ20) -> 0
A21: Open | B21: Open | C21: R$ thousands | D21: R$ milhares | E21: LançamentosVGV TotalRio Grande do Sul | F21: =IF(Menu!$G$10="English",A21,B21) -> Open | G21: =IF(Menu!$G$10="English",C21,D21) -> R$ milhares | H21: 0 | I21: 0 | J21: 34940 | K21: 0 | L21: 41895 | M21: 0 | N21: 0 | O21: 0 | P21: 0 | Q21: 0 | R21: 0 | S21: 42400 | T21: 27952 | U21: 0 | V21: 0 | W21: 0 | X21: 0 | Y21: 0 | Z21: 0 | AA21: 0 | AB21: 0 | AC21: 42728.25 | AD21: 42728.25 | AE21: 0 | AF21: 0 | AG21: 42558.543 | AH21: 168973.59 | AI21: 58360.066 | AJ21: 0 | AL21: =H21 -> 0 | AM21: =I21 -> 0 | AN21: =J21 -> 34940 | AO21: =SUM(K21:N21) -> 41895 | AP21: =SUM(O21:R21) -> 0 | AQ21: =SUM(S21:V21) -> 70352 | AR21: =SUM(W21:Z21) -> 0 | AS21: =AA21+AB21+AC21+AD21 -> 85456.5 | AT21: =AE21+AF21+AG21+AH21 -> 211532.13 | AU21: =SUM(AI21:AJ21) -> 58360.066
A23: PSV of units launched (Melnick) | B23: VGV das unidades lançadas (Melnick) | C23: R$ thousands | D23: R$ milhares | F23: =IF(Menu!$G$10="English",A23,B23) -> VGV das unidades lançadas (Melnick) | G23: =IF(Menu!$G$10="English",C23,D23) -> R$ milhares | H23: =SUM(H24:H26) -> 267068.92 | I23: =SUM(I24:I26) -> 420795.71 | J23: =SUM(J24:J26) -> 589074.22 | K23: =SUM(K24:K26) -> 81348.6 | L23: =SUM(L24:L26) -> 244582.94 | M23: =SUM(M24:M26) -> 86154.55 | N23: =SUM(N24:N26) -> 88339 | O23: =SUM(O24:O26) -> 334920.59 | ... AJ23: =SUM(AJ24:AJ26) -> 114594 | AL23: =SUM(AL24:AL26) -> 267068.92 | AM23: =SUM(AM24:AM26) -> 420795.71 | AN23: =SUM(AN24:AN26) -> 589074.22 | AO23: =SUM(AO24:AO26) -> 500425.09 | AP23: =SUM(AP24:AP26) -> 808024.52 | AQ23: =SUM(AQ24:AQ26) -> 611386.15 | AR23: =SUM(AR24:AR26) -> 731842.31 | AS23: =SUM(AS24:AS26) -> 1093560.4 | ... AU23: =SUM(AU24:AU26) -> 328075.66
A24: Real Estate | B24: Incorporadora | C24: R$ thousands | D24: R$ milhares | E24: LançamentosVGV parte EvenSão Paulo | F24: =IF(Menu!$G$10="English",A24,B24) -> Incorporadora | G24: =IF(Menu!$G$10="English",C24,D24) -> R$ milhares | H24: 226829.74 | I24: 402448.79 | J24: 536716.62 | K24: 49716 | L24: 204751.34 | M24: 86154.55 | N24: 88339 | O24: 291338.64 | P24: 97763.675 | Q24: 162520.26 | R24: 212820 | S24: 201410.85 | T24: 85786 | U24: 136703 | V24: 50087 | W24: 432287 | X24: 0 | Y24: 218943.09 | Z24: 0 | AA24: 617160.62 | AB24: 0 | AC24: 189429.91 | AD24: 106526 | AE24: 0 | AF24: 355275 | AG24: 81034.46 | AH24: 297814 | AI24: 157456 | AJ24: 114594 | AL24: =H24 -> 226829.74 | AM24: =I24 -> 402448.79 | AN24: =J24 -> 536716.62 | AO24: =SUM(K24:N24) -> 428960.89 | AP24: =SUM(O24:R24) -> 764442.57 | AQ24: =SUM(S24:V24) -> 473986.85 | AR24: =SUM(W24:Z24) -> 651230.09 | AS24: =AA24+AB24+AC24+AD24 -> 913116.53 | AT24: =AE24+AF24+AG24+AH24 -> 734123.46 | AU24: =SUM(AI24:AJ24) -> 272050
A25: Lot development | B25: Urbanizadora | C25: R$ thousands | D25: R$ milhares | E25: LançamentosVGV parte EvenRio de Janeiro | F25: =IF(Menu!$G$10="English",A25,B25) -> Urbanizadora | G25: =IF(Menu!$G$10="English",C25,D25) -> R$ milhares | H25: 40239.177 | I25: 18346.924 | J25: 19164.6 | K25: 31632.6 | L25: 0 | M25: 0 | N25: 0 | O25: 43581.947 | P25: 0 | Q25: 0 | R25: 0 | S25: 25644.3 | T25: 0 | U25: 18654 | V25: =13989+12278 -> 26267 | W25: 0 | X25: 0 | Y25: 23329.115 | Z25: 57283.106 | AA25: 0 | AB25: 0 | AC25: 0 | AD25: 109284 | AE25: 0 | AF25: 0 | AG25: 0 | AH25: 0 | AI25: 0 | AJ25: 0 | AL25: =H25 -> 40239.177 | AM25: =I25 -> 18346.924 | AN25: =J25 -> 19164.6 | AO25: =SUM(K25:N25) -> 31632.6 | AP25: =SUM(O25:R25) -> 43581.947 | AQ25: =SUM(S25:V25) -> 70565.3 | AR25: =SUM(W25:Z25) -> 80612.221 | AS25: =AA25+AB25+AC25+AD25 -> 109284 | AT25: =AE25+AF25+AG25+AH25 -> 0 | AU25: =SUM(AI25:AJ25) -> 0
A26: Open | B26: Open | C26: R$ thousands | D26: R$ milhares | E26: LançamentosVGV parte EvenRio Grande do Sul | F26: =IF(Menu!$G$10="English",A26,B26) -> Open | G26: =IF(Menu!$G$10="English",C26,D26) -> R$ milhares | H26: 0 | I26: 0 | J26: 33193 | K26: 0 | L26: 39831.6 | M26: 0 | N26: 0 | O26: 0 | P26: 0 | Q26: 0 | R26: 0 | S26: 40280 | T26: 26554 | U26: 0 | V26: 0 | W26: 0 | X26: 0 | Y26: 0 | Z26: 0 | AA26: 0 | AB26: 0 | AC26: 35936.435 | AD26: 35223.387 | AE26: 0 | AF26: 0 | AG26: 38327 | AH26: 157286.4 | AI26: 56025.663 | AJ26: 0 | AL26: =H26 -> 0 | AM26: =I26 -> 0 | AN26: =J26 -> 33193 | AO26: =SUM(K26:N26) -> 39831.6 | AP26: =SUM(O26:R26) -> 0 | AQ26: =SUM(S26:V26) -> 66834 | AR26: =SUM(W26:Z26) -> 0 | AS26: =AA26+AB26+AC26+AD26 -> 71159.822 | AT26: =AE26+AF26+AG26+AH26 -> 195613.4 | AU26: =SUM(AI26:AJ26) -> 56025.663
A29: OPERATIONALS & FINANCIALS | SALES | B29: OPERACIONAIS & FINANCEIROS | VENDAS | F29: =IF(Menu!$G$10="English",A29,B29) -> OPERACIONAIS & FINANCEIROS | VENDAS
A30: Items | B30: Itens | C30: Unit | D30: Unidade | F30: =IF(Menu!$G$10="English",A30,B30) -> Itens | G30: =G7 -> Unidade | H30: =H7 -> 2017 | I30: =I7 -> 2018 | J30: =J7 -> 2019 | K30: =IF(Menu!$G$10="PORTUGUÊS","1T20","1Q20") -> 1T20 | L30: =IF(Menu!$G$10="PORTUGUÊS","2T20","2Q20") -> 2T20 | M30: =IF(Menu!$G$10="PORTUGUÊS","3T20","3Q20") -> 3T20 | N30: =IF(Menu!$G$10="PORTUGUÊS","4T20","4Q20") -> 4T20 | O30: =IF(Menu!$G$10="PORTUGUÊS","1T21","1Q21") -> 1T21 | P30: =IF(Menu!$G$10="PORTUGUÊS","2T21","2Q21") -> 2T21 | Q30: =IF(Menu!$G$10="PORTUGUÊS","3T21","3Q21") -> 3T21 | R30: =IF(Menu!$G$10="PORTUGUÊS","4T21","4Q21") -> 4T21 | S30: =IF(Menu!$G$10="PORTUGUÊS","1T22","1Q22") -> 1T22 | T30: =IF(Menu!$G$10="PORTUGUÊS","2T22","2Q22") -> 2T22 | U30: =IF(Menu!$G$10="PORTUGUÊS","3T22","3Q22") -> 3T22 | V30: =IF(Menu!$G$10="PORTUGUÊS","4T22","4Q22") -> 4T22 | W30: =IF(Menu!$G$10="PORTUGUÊS","1T23","1Q23") -> 1T23 | X30: =IF(Menu!$G$10="PORTUGUÊS","2T23","2Q23") -> 2T23 | Y30: =IF(Menu!$G$10="PORTUGUÊS","3T23","3Q23") -> 3T23 | Z30: =IF(Menu!$G$10="PORTUGUÊS","4T23","4Q23") -> 4T23 | AA30: =IF(Menu!$G$10="PORTUGUÊS","1T24","1Q24") -> 1T24 | AB30: =IF(Menu!$G$10="PORTUGUÊS","2T24","2Q24") -> 2T24 | AC30: =IF(Menu!$G$10="PORTUGUÊS","3T24","3Q24") -> 3T24 | AD30: =IF(Menu!$G$10="PORTUGUÊS","4T24","4Q24") -> 4T24 | AE30: =$AE$7 -> 1T25 | AF30: =IF(Menu!$G$10="PORTUGUÊS","2T25","2Q25") -> 2T25 | AG30: =IF(Menu!$G$10="PORTUGUÊS","3T25","3Q25") -> 3T25 | AH30: =IF(Menu!$G$10="PORTUGUÊS","4T25","4Q25") -> 4T25 | AI30: =IF(Menu!$G$10="PORTUGUÊS","1T26","1Q26") -> 1T26 | AJ30: =IF(Menu!$G$10="PORTUGUÊS","2T26","2Q26") -> 2T26 | AL30: =AL7 -> 2017 | AM30: =AM7 -> 2018 | AN30: =AN7 -> 2019 | AO30: =AO7 -> 2020 | AP30: =AP7 -> 2021 | AQ30: =AQ7 -> 2022 | AR30: 2023 | AS30: 2024 | AT30: 2025 | AU30: =AU7 -> 2026
A31: PSV ouf units sold (total) | B31: VGV das unidades vendidas (total) | C31: R$ thousands | D31: R$ milhares | F31: =IF(Menu!$G$10="English",A31,B31) -> VGV das unidades vendidas (total) | G31: =IF(Menu!$G$10="English",C31,D31) -> R$ milhares | H31: =SUM(H32,H36) -> 341594.79 | I31: =SUM(I32,I36) -> 471684.79 | J31: =SUM(J32,J36) -> 576264 | K31: =SUM(K32,K36) -> 103572.98 | L31: =SUM(L32,L36) -> 233671.96 | M31: =SUM(M32,M36) -> 134693 | N31: =SUM(N32,N36) -> 36658.1 | O31: =SUM(O32,O36) -> 142493.63 | ... AJ31: =SUM(AJ32,AJ36) -> 101821.42 | AL31: =SUM(AL32,AL36) -> 341594.79 | AM31: =SUM(AM32,AM36) -> 471684.79 | AN31: =SUM(AN32,AN36) -> 576264 | AO31: =SUM(AO32,AO36) -> 508596.04 | AP31: =SUM(AP32,AP36) -> 541308.82 | AQ31: =SUM(AQ32,AQ36) -> 865284.16 | AR31: =SUM(AR32,AR36) -> 1036713.3 | AS31: =SUM(AS32,AS36) -> 1083145.6 | ... AU31: =SUM(AU32,AU36) -> 422664.34
A32: Launch | B32: Lançamento | C32: R$ thousands | D32: R$ milhares | F32: =IF(Menu!$G$10="English",A32,B32) -> Lançamento | G32: =IF(Menu!$G$10="English",C32,D32) -> R$ milhares | H32: =SUM(H33:H35) -> 210249.7 | I32: =SUM(I33:I35) -> 231637.78 | J32: =SUM(J33:J35) -> 340220 | K32: =SUM(K33:K35) -> 55839.134 | L32: =SUM(L33:L35) -> 152796 | M32: =SUM(M33:M35) -> 33394 | N32: =SUM(N33:N35) -> 13763.8 | O32: =SUM(O33:O35) -> 131467.59 | ... AJ32: =SUM(AJ33:AJ35) -> 17516.18 | AL32: =SUM(AL33:AL35) -> 210249.7 | AM32: =SUM(AM33:AM35) -> 231637.78 | AN32: =SUM(AN33:AN35) -> 340220 | AO32: =SUM(AO33:AO35) -> 255792.93 | AP32: =SUM(AP33:AP35) -> 247180.53 | AQ32: =SUM(AQ33:AQ35) -> 375330.15 | AR32: =SUM(AR33:AR35) -> 379021.47 | AS32: =SUM(AS33:AS35) -> 662009.17 | ... AU32: =SUM(AU33:AU35) -> 99630.024
A33: Real Estate | B33: Incorporadora | C33: R$ thousands | D33: R$ milhares | E33: Vendas LíquidasVendas Total Lançamentos RegiãoSão Paulo | F33: =IF(Menu!$G$10="English",A33,B33) -> Incorporadora | G33: =IF(Menu!$G$10="English",C33,D33) -> R$ milhares | H33: 196159.03 | I33: 229203.61 | J33: 299905 | K33: 19739.951 | L33: 147348 | M33: 33394 | N33: 13763.8 | O33: 58831.012 | P33: 11627.251 | Q33: 38678.944 | R33: 65406.747 | S33: 79626.028 | T33: 83263.739 | U33: 38194.926 | V33: 34554.739 | W33: 161543.73 | X33: 0 | Y33: 107611.01 | Z33: 0 | AA33: 219570.12 | AB33: 0 | AC33: 129814.07 | AD33: 32948.801 | AE33: 0 | AF33: 110390.83 | AG33: 32428.972 | AH33: 135164.28 | AI33: 62955.409 | AJ33: 17516.18 | AL33: =H33 -> 196159.03 | AM33: =I33 -> 229203.61 | AN33: =J33 -> 299905 | AO33: =SUM(K33:N33) -> 214245.75 | AP33: =SUM(O33:R33) -> 174543.95 | AQ33: =SUM(S33:V33) -> 235639.43 | AR33: =SUM(W33:Z33) -> 269154.74 | AS33: =AA33+AB33+AC33+AD33 -> 382332.99 | AT33: =AE33+AF33+AG33+AH33 -> 277984.07 | AU33: =SUM(AI33:AJ33) -> 80471.588
A34: Lot development | B34: Urbanizadora | C34: R$ thousands | D34: R$ milhares | E34: Vendas LíquidasVendas Total Lançamentos RegiãoRio de Janeiro | F34: =IF(Menu!$G$10="English",A34,B34) -> Urbanizadora | G34: =IF(Menu!$G$10="English",C34,D34) -> R$ milhares | H34: 14090.668 | I34: 2434.1652 | J34: 19421 | K34: 36099.183 | L34: 0 | M34: 0 | N34: 0 | O34: 72636.578 | P34: 0 | Q34: 0 | R34: 0 | S34: 73492.928 | T34: 0 | U34: 25531.35 | V34: 30058.742 | W34: 0 | X34: 0 | Y34: 14042.6 | Z34: 95824.138 | AA34: 0 | AB34: 0 | AC34: 0 | AD34: 268097.2 | AE34: 0 | AF34: 0 | AG34: 0 | AH34: 0 | AI34: 0 | AJ34: 0 | AL34: =H34 -> 14090.668 | AM34: =I34 -> 2434.1652 | AN34: =J34 -> 19421 | AO34: =SUM(K34:N34) -> 36099.183 | AP34: =SUM(O34:R34) -> 72636.578 | AQ34: =SUM(S34:V34) -> 129083.02 | AR34: =SUM(W34:Z34) -> 109866.74 | AS34: =AA34+AB34+AC34+AD34 -> 268097.2 | AT34: =AE34+AF34+AG34+AH34 -> 0 | AU34: =SUM(AI34:AJ34) -> 0
A35: Open | B35: Open | C35: R$ thousands | D35: R$ milhares | E35: Vendas LíquidasVendas Total Lançamentos RegiãoRio Grande do Sul | F35: =IF(Menu!$G$10="English",A35,B35) -> Open | G35: =IF(Menu!$G$10="English",C35,D35) -> R$ milhares | H35: 0 | I35: 0 | J35: 20894 | K35: 0 | L35: 5447.9974 | M35: 0 | N35: 0 | O35: 0 | P35: 0 | Q35: 0 | R35: 0 | S35: 6113.275 | T35: 4494.424 | U35: 0 | V35: 0 | W35: 0 | X35: 0 | Y35: 0 | Z35: 0 | AA35: 0 | AB35: 0 | AC35: 0 | AD35: 11578.975 | AE35: 0 | AF35: 0 | AG35: 25073.136 | AH35: 82663.332 | AI35: 19158.436 | AJ35: 0 | AL35: =H35 -> 0 | AM35: =I35 -> 0 | AN35: =J35 -> 20894 | AO35: =SUM(K35:N35) -> 5447.9974 | AP35: =SUM(O35:R35) -> 0 | AQ35: =SUM(S35:V35) -> 10607.699 | AR35: =SUM(W35:Z35) -> 0 | AS35: =AA35+AB35+AC35+AD35 -> 11578.975 | AT35: =AE35+AF35+AG35+AH35 -> 107736.47 | AU35: =SUM(AI35:AJ35) -> 19158.436
A36: Inventory | B36: Remanescente | C36: R$ thousands | D36: R$ milhares | F36: =IF(Menu!$G$10="English",A36,B36) -> Remanescente | G36: =IF(Menu!$G$10="English",C36,D36) -> R$ milhares | H36: =SUM(H37:H39) -> 131345.09 | I36: =SUM(I37:I39) -> 240047.02 | J36: =SUM(J37:J39) -> 236044 | K36: =SUM(K37:K39) -> 47733.844 | L36: =SUM(L37:L39) -> 80875.964 | M36: =SUM(M37:M39) -> 101299 | N36: =SUM(N37:N39) -> 22894.3 | O36: =SUM(O37:O39) -> 11026.038 | ... AJ36: =SUM(AJ37:AJ39) -> 84305.242 | AL36: =SUM(AL37:AL39) -> 131345.09 | AM36: =SUM(AM37:AM39) -> 240047.02 | AN36: =SUM(AN37:AN39) -> 236044 | AO36: =SUM(AO37:AO39) -> 252803.11 | AP36: =SUM(AP37:AP39) -> 294128.29 | AQ36: =SUM(AQ37:AQ39) -> 489954 | AR36: =SUM(AR37:AR39) -> 657691.88 | AS36: =SUM(AS37:AS39) -> 421136.45 | ... AU36: =SUM(AU37:AU39) -> 323034.31
A37: Real Estate | B37: Incorporadora | C37: R$ thousands | D37: R$ milhares | E37: Vendas LíquidasVendas Total Remanescentes RegiãoSão Paulo | F37: =IF(Menu!$G$10="English",A37,B37) -> Incorporadora | G37: =IF(Menu!$G$10="English",C37,D37) -> R$ milhares | H37: 116351.54 | I37: 219268.24 | J37: 215116 | K37: 34703.518 | L37: 74065 | M37: 77388 | N37: 386.3 | O37: -3126.3863 | P37: 96218.622 | Q37: 40665.615 | R37: 120273.95 | S37: 15375.825 | T37: 241907.9 | U37: 105804.56 | V37: 70864.145 | W37: 188854.77 | X37: 112667.98 | Y37: 103362.92 | Z37: 186446.3 | AA37: 172092.54 | AB37: 56736.587 | AC37: 17779.591 | AD37: 149118.44 | AE37: 140276.65 | AF37: 214034.73 | AG37: 79805.506 | AH37: 103511.53 | AI37: 214628.73 | AJ37: 52662.885 | AL37: =H37 -> 116351.54 | AM37: =I37 -> 219268.24 | AN37: =J37 -> 215116 | AO37: =SUM(K37:N37) -> 186542.82 | AP37: =SUM(O37:R37) -> 254031.8 | AQ37: =SUM(S37:V37) -> 433952.43 | AR37: =SUM(W37:Z37) -> 591331.97 | AS37: =AA37+AB37+AC37+AD37 -> 395727.16 | AT37: =AE37+AF37+AG37+AH37 -> 537628.4 | AU37: =SUM(AI37:AJ37) -> 267291.61
A38: Lot development | B38: Urbanizadora | C38: R$ thousands | D38: R$ milhares | E38: Vendas LíquidasVendas Total Remanescentes RegiãoRio de Janeiro | F38: =IF(Menu!$G$10="English",A38,B38) -> Urbanizadora | G38: =IF(Menu!$G$10="English",C38,D38) -> R$ milhares | H38: 14993.551 | I38: 20778.778 | J38: 20928 | K38: 3484.5447 | L38: 2811 | M38: 18246 | N38: 19005 | O38: 9576.0544 | P38: 2462.9604 | Q38: 8197.1943 | R38: 2319.1146 | S38: -2177.7332 | T38: 344.06732 | U38: 2490.8907 | V38: 10414.806 | W38: 10285.223 | X38: 12718.922 | Y38: 9740.5777 | Z38: 7822.714 | AA38: 15475.528 | AB38: 8464.8422 | AC38: 18607.376 | AD38: -46326.91 | AE38: 17080.874 | AF38: 2231.329 | AG38: 5694.8835 | AH38: 1556.4656 | AI38: -275.27846 | AJ38: -3849.6529 | AL38: =H38 -> 14993.551 | AM38: =I38 -> 20778.778 | AN38: =J38 -> 20928 | AO38: =SUM(K38:N38) -> 43546.545 | AP38: =SUM(O38:R38) -> 22555.324 | AQ38: =SUM(S38:V38) -> 11072.031 | AR38: =SUM(W38:Z38) -> 40567.436 | AS38: =AA38+AB38+AC38+AD38 -> -3779.1639 | AT38: =AE38+AF38+AG38+AH38 -> 26563.552 | AU38: =SUM(AI38:AJ38) -> -4124.9313
A39: Open | B39: Open | C39: R$ thousands | D39: R$ milhares | E39: Vendas LíquidasVendas Total Remanescentes RegiãoRio Grande do Sul | F39: =IF(Menu!$G$10="English",A39,B39) -> Open | G39: =IF(Menu!$G$10="English",C39,D39) -> R$ milhares | H39: 0 | I39: 0 | J39: 0 | K39: 9545.7806 | L39: 3999.9643 | M39: 5665 | N39: 3503 | O39: 4576.3701 | P39: 5944.1758 | Q39: 1975.0002 | R39: 5045.6169 | S39: 2897.7329 | T39: 16310.691 | U39: 13533.752 | V39: 12187.362 | W39: 16354.644 | X39: 8722.0251 | Y39: -1784.0134 | Z39: 2499.8087 | AA39: -1004.0058 | AB39: 343.48161 | AC39: 24749.507 | AD39: 5099.4759 | AE39: 6944.2452 | AF39: 9982.3808 | AG39: 9652.2092 | AH39: 8755.1508 | AI39: 24375.621 | AJ39: 35492.01 | AL39: =H39 -> 0 | AM39: =I39 -> 0 | AN39: =J39 -> 0 | AO39: =SUM(K39:N39) -> 22713.745 | AP39: =SUM(O39:R39) -> 17541.163 | AQ39: =SUM(S39:V39) -> 44929.539 | AR39: =SUM(W39:Z39) -> 25792.465 | AS39: =AA39+AB39+AC39+AD39 -> 29188.458 | AT39: =AE39+AF39+AG39+AH39 -> 35333.986 | AU39: =SUM(AI39:AJ39) -> 59867.631
AP40: =SUM(O40:R40) -> 0
A41: PSV ouf units sold (Melnick) | B41: VGV das unidades vendidas (Melnick) | C41: R$ thousands | D41: R$ milhares | F41: =IF(Menu!$G$10="English",A41,B41) -> VGV das unidades vendidas (Melnick) | G41: =IF(Menu!$G$10="English",C41,D41) -> R$ milhares | H41: =SUM(H42,H46) -> 318198.32 | I41: =SUM(I42,I46) -> 456980.28 | J41: =SUM(J42,J46) -> 545423 | K41: =SUM(K42,K46) -> 83978.989 | L41: =SUM(L42,L46) -> 230663.96 | M41: =SUM(M42,M46) -> 126392.36 | N41: =SUM(N42,N46) -> 31455.8 | O41: =SUM(O42,O46) -> 109592.46 | ... AJ41: =SUM(AJ42,AJ46) -> 107685.15 | AL41: =SUM(AL42,AL46) -> 318198.32 | AM41: =SUM(AM42,AM46) -> 456980.28 | AN41: =SUM(AN42,AN46) -> 545423 | AO41: =SUM(AO42,AO46) -> 472491.11 | AP41: =SUM(AP42,AP46) -> 491232.68 | AQ41: =SUM(AQ42,AQ46) -> 646714.34 | AR41: =SUM(AR42,AR46) -> 809375.82 | AS41: =SUM(AS42,AS46) -> 837064.64 | ... AU41: =SUM(AU42,AU46) -> 407983.6
A42: Launch | B42: Lançamento | C42: R$ thousands | D42: R$ milhares | F42: =IF(Menu!$G$10="English",A42,B42) -> Lançamento | G42: =IF(Menu!$G$10="English",C42,D42) -> R$ milhares | H42: =SUM(H43:H45) -> 149380.29 | I42: =SUM(I43:I45) -> 230372.01 | J42: =SUM(J43:J45) -> 329117 | K42: =SUM(K43:K45) -> 41399.461 | L42: =SUM(L43:L45) -> 152796 | M42: =SUM(M43:M45) -> 33394 | N42: =SUM(N43:N45) -> 13763.8 | O42: =SUM(O43:O45) -> 102412.96 | ... AJ42: =SUM(AJ43:AJ45) -> 17516.18 | AL42: =SUM(AL43:AL45) -> 149380.29 | AM42: =SUM(AM43:AM45) -> 230372.01 | AN42: =SUM(AN43:AN45) -> 329117 | AO42: =SUM(AO43:AO45) -> 241353.26 | AP42: =SUM(AP43:AP45) -> 213643.18 | AQ42: =SUM(AQ43:AQ45) -> 215589.3 | AR42: =SUM(AR43:AR45) -> 264995.88 | AS42: =SUM(AS43:AS45) -> 491867.23 | ... AU42: =SUM(AU43:AU45) -> 99630.024
A43: Real Estate | B43: Incorporadora | C43: R$ thousands | D43: R$ milhares | E43: Vendas LíquidasVendas Lançamentos RegiãoSão Paulo | F43: =IF(Menu!$G$10="English",A43,B43) -> Incorporadora | G43: =IF(Menu!$G$10="English",C43,D43) -> R$ milhares | H43: 142609.25 | I43: 229203.61 | J43: 299905 | K43: 19739.951 | L43: 147348 | M43: 33394 | N43: 13763.8 | O43: 58831.012 | P43: 11627.251 | Q43: 34196.224 | R43: 65406.747 | S43: 39813.014 | T43: 41631.87 | U43: 38194.926 | V43: 34554.739 | W43: 125429.74 | X43: 0 | Y43: 87441.293 | Z43: 0 | AA43: 219570.12 | AB43: 0 | AC43: 120231.3 | AD43: 32948.801 | AE43: 0 | AF43: 110390.83 | AG43: 32428.972 | AH43: 135164.28 | AI43: 62955.409 | AJ43: 17516.18 | AL43: =H43 -> 142609.25 | AM43: =I43 -> 229203.61 | AN43: =J43 -> 299905 | AO43: =SUM(K43:N43) -> 214245.75 | AP43: =SUM(O43:R43) -> 170061.23 | AQ43: =SUM(S43:V43) -> 154194.55 | AR43: =SUM(W43:Z43) -> 212871.03 | AS43: =AA43+AB43+AC43+AD43 -> 372750.22 | AT43: =AE43+AF43+AG43+AH43 -> 277984.07 | AU43: =SUM(AI43:AJ43) -> 80471.588
A44: Lot development | B44: Urbanizadora | C44: R$ thousands | D44: R$ milhares | E44: Vendas LíquidasVendas Lançamentos RegiãoRio de Janeiro | F44: =IF(Menu!$G$10="English",A44,B44) -> Urbanizadora | G44: =IF(Menu!$G$10="English",C44,D44) -> R$ milhares | H44: 6771.0447 | I44: 1168.3993 | J44: 8318 | K44: 21659.51 | L44: 0 | M44: 0 | N44: 0 | O44: 43581.947 | P44: 0 | Q44: 0 | R44: 0 | S44: 25722.525 | T44: 0 | U44: 15318.81 | V44: 9745.7217 | W44: 0 | X44: 0 | Y44: 4212.7801 | Z44: 47912.069 | AA44: 0 | AB44: 0 | AC44: 0 | AD44: 107538.04 | AE44: 0 | AF44: 0 | AG44: 0 | AH44: 0 | AI44: 0 | AJ44: 0 | AL44: =H44 -> 6771.0447 | AM44: =I44 -> 1168.3993 | AN44: =J44 -> 8318 | AO44: =SUM(K44:N44) -> 21659.51 | AP44: =SUM(O44:R44) -> 43581.947 | AQ44: =SUM(S44:V44) -> 50787.056 | AR44: =SUM(W44:Z44) -> 52124.849 | AS44: =AA44+AB44+AC44+AD44 -> 107538.04 | AT44: =AE44+AF44+AG44+AH44 -> 0 | AU44: =SUM(AI44:AJ44) -> 0
A45: Open | B45: Open | C45: R$ thousands | D45: R$ milhares | E45: Vendas LíquidasVendas Lançamentos RegiãoRio Grande do Sul | F45: =IF(Menu!$G$10="English",A45,B45) -> Open | G45: =IF(Menu!$G$10="English",C45,D45) -> R$ milhares | I45: 0 | J45: 20894 | K45: 0 | L45: 5447.9974 | M45: 0 | N45: 0 | O45: 0 | P45: 0 | Q45: 0 | R45: 0 | S45: 6113.275 | T45: 4494.424 | U45: 0 | V45: 0 | W45: 0 | Z45: 0 | AA45: 0 | AB45: 0 | AC45: 0 | AD45: 11578.975 | AE45: 0 | AF45: 0 | AG45: 25073.136 | AH45: 82663.332 | AI45: 19158.436 | AJ45: 0 | AL45: =H45 -> 0 | AM45: =I45 -> 0 | AN45: =J45 -> 20894 | AO45: =SUM(K45:N45) -> 5447.9974 | AP45: =SUM(O45:R45) -> 0 | AQ45: =SUM(S45:V45) -> 10607.699 | AR45: =SUM(W45:Z45) -> 0 | AS45: =AA45+AB45+AC45+AD45 -> 11578.975 | AT45: =AE45+AF45+AG45+AH45 -> 107736.47 | AU45: =SUM(AI45:AJ45) -> 19158.436
A46: Inventory | B46: Remanescente | C46: R$ thousands | D46: R$ milhares | F46: =IF(Menu!$G$10="English",A46,B46) -> Remanescente | G46: =IF(Menu!$G$10="English",C46,D46) -> R$ milhares | H46: =SUM(H47:H49) -> 168818.03 | I46: =SUM(I47:I49) -> 226608.27 | J46: =SUM(J47:J49) -> 216306 | K46: =SUM(K47:K49) -> 42579.528 | L46: =SUM(L47:L49) -> 77867.964 | M46: =SUM(M47:M49) -> 92998.358 | N46: =SUM(N47:N49) -> 17692 | O46: =SUM(O47:O49) -> 7179.5049 | ... AJ46: =SUM(AJ47:AJ49) -> 90168.969 | AL46: =SUM(AL47:AL49) -> 168818.03 | AM46: =SUM(AM47:AM49) -> 226608.27 | AN46: =SUM(AN47:AN49) -> 216306 | AO46: =SUM(AO47:AO49) -> 231137.85 | AP46: =SUM(AP47:AP49) -> 277589.5 | AQ46: =SUM(AQ47:AQ49) -> 431125.03 | AR46: =SUM(AR47:AR49) -> 544379.94 | AS46: =SUM(AS47:AS49) -> 345197.41 | ... AU46: =SUM(AU47:AU49) -> 308353.58
A47: Real Estate | B47: Incorporadora | C47: R$ thousands | D47: R$ milhares | E47: Vendas LíquidasVendas Remanescentes RegiãoSão Paulo | F47: =IF(Menu!$G$10="English",A47,B47) -> Incorporadora | G47: =IF(Menu!$G$10="English",C47,D47) -> R$ milhares | H47: 161125.34 | I47: 214141 | J47: 203807 | K47: 31153.397 | L47: 72280 | M47: 76917.464 | N47: 1193 | O47: -3126.3863 | P47: 96218.622 | Q47: 40665.615 | R47: 113889.33 | S47: 13868.649 | T47: 222951.47 | U47: 82867.657 | V47: 62876.101 | W47: 159701.72 | X47: 97274.537 | Y47: 83314.334 | Z47: 162545.44 | AA47: 146981.81 | AB47: 57050.485 | AC47: 17490.198 | AD47: 103948.54 | AE47: 116286.66 | AF47: 203481.26 | AG47: 79344.059 | AH47: 97772.804 | AI47: 193808.04 | AJ47: 55777.296 | AL47: =H47 -> 161125.34 | AM47: =I47 -> 214141 | AN47: =J47 -> 203807 | AO47: =SUM(K47:N47) -> 181543.86 | AP47: =SUM(O47:R47) -> 247647.18 | AQ47: =SUM(S47:V47) -> 382563.88 | AR47: =SUM(W47:Z47) -> 502836.03 | AS47: =AA47+AB47+AC47+AD47 -> 325471.04 | AT47: =AE47+AF47+AG47+AH47 -> 496884.78 | AU47: =SUM(AI47:AJ47) -> 249585.34
A48: Lot development | B48: Urbanizadora | C48: R$ thousands | D48: R$ milhares | E48: Vendas LíquidasVendas Remanescentes RegiãoRio de Janeiro | F48: =IF(Menu!$G$10="English",A48,B48) -> Urbanizadora | G48: =IF(Menu!$G$10="English",C48,D48) -> R$ milhares | H48: 7692.6911 | I48: 12467.267 | J48: 12499 | K48: 1880.3501 | L48: 1588 | M48: 10416.059 | N48: 12996 | O48: 5729.5211 | P48: 1327.4054 | Q48: 4228.1446 | R48: 1116.0774 | S48: -1306.6399 | T48: 201.21248 | U48: 1502.9281 | V48: 3516.1235 | W48: 3802.7512 | X48: 5166.3172 | Y48: 4355.7685 | Z48: 2426.6065 | AA48: 6429.5974 | AB48: 3596.0039 | AC48: 5477.6068 | AD48: -24965.297 | AE48: 7113.8316 | AF48: 690.60533 | AG48: 931.99557 | AH48: 404.32042 | AI48: 0.94490519 | AJ48: -1100.3371 | AL48: =H48 -> 7692.6911 | AM48: =I48 -> 12467.267 | AN48: =J48 -> 12499 | AO48: =SUM(K48:N48) -> 26880.409 | AP48: =SUM(O48:R48) -> 12401.149 | AQ48: =SUM(S48:V48) -> 3913.6242 | AR48: =SUM(W48:Z48) -> 15751.443 | AS48: =AA48+AB48+AC48+AD48 -> -9462.0891 | AT48: =AE48+AF48+AG48+AH48 -> 9140.7529 | AU48: =SUM(AI48:AJ48) -> -1099.3922
A49: Open | B49: Open | C49: R$ thousands | D49: R$ milhares | E49: Vendas LíquidasVendas Remanescentes RegiãoRio Grande do Sul | F49: =IF(Menu!$G$10="English",A49,B49) -> Open | G49: =IF(Menu!$G$10="English",C49,D49) -> R$ milhares | I49: 0 | J49: 0 | K49: 9545.7806 | L49: 3999.9643 | M49: 5664.8347 | N49: 3503 | O49: 4576.3701 | P49: 5944.1758 | Q49: 1975.0002 | R49: 5045.6169 | S49: 2615.7287 | T49: 16310.691 | U49: 13533.752 | V49: 12187.362 | W49: 16354.644 | X49: 8722.0251 | Y49: -1784.0134 | Z49: 2499.8087 | AA49: -1004.0058 | AB49: 343.48161 | AC49: 24749.507 | AD49: 5099.4759 | AE49: 6944.2452 | AF49: 9982.3808 | AG49: 9652.2092 | AH49: 8755.1508 | AI49: 24375.621 | AJ49: 35492.01 | AL49: =H49 -> 0 | AM49: =I49 -> 0 | AN49: =J49 -> 0 | AO49: =SUM(K49:N49) -> 22713.58 | AP49: =SUM(O49:R49) -> 17541.163 | AQ49: =SUM(S49:V49) -> 44647.534 | AR49: =SUM(W49:Z49) -> 25792.465 | AS49: =AA49+AB49+AC49+AD49 -> 29188.458 | AT49: =AE49+AF49+AG49+AH49 -> 35333.986 | AU49: =SUM(AI49:AJ49) -> 59867.631
A51: Units sold | B51: Unidades vendidas | C51: Unit | D51: Unidade | F51: =IF(Menu!$G$10="English",A51,B51) -> Unidades vendidas | G51: =IF(Menu!$G$10="English",C51,D51) -> Unidade | H51: =SUM(H52:H54) -> 940 | I51: =SUM(I52:I54) -> 1078 | J51: =SUM(J52:J54) -> 1551 | K51: =SUM(K52:K54) -> 358 | L51: =SUM(L52:L54) -> 204 | M51: =SUM(M52:M54) -> 300 | N51: =SUM(N52:N54) -> 109 | O51: =SUM(O52:O54) -> 496 | ... AJ51: =SUM(AJ52:AJ54) -> 184 | AL51: =SUM(AL52:AL54) -> 940 | AM51: =SUM(AM52:AM54) -> 1078 | AN51: =SUM(AN52:AN54) -> 1551 | AO51: =SUM(AO52:AO54) -> 971 | AP51: =SUM(AP52:AP54) -> 1034 | AQ51: =SUM(AQ52:AQ54) -> 1616 | AR51: =SUM(AR52:AR54) -> 1742 | AS51: =SUM(AS52:AS54) -> 1876 | ... AU51: =SUM(AU52:AU54) -> 638
...

Sheet % Venda e POC | % Sold and POC
D5: =IF(Menu!$G$10="Português","Evolução da comercialização e evolução financeira do custo","Trade evolution and cost financial evolution") -> Evolução da comercialização e evolução financeira do custo
A6: Lançamento | B6: =IF(Menu!$G$10="Português","Lançamento","Lauch") -> Lançamento | D6: =IF(Menu!$G$10="Português","Projeto","Project") -> Projeto | E6: =IF(Menu!$G$10="Português","Lançamento","Lauch") -> Lançamento | F6: =IF(Menu!$G$10="Português","% Melnick","Melnick's Share") -> % Melnick | G6: =IF(Menu!$G$10="Português","% Vendido","% Sold") -> % Vendido | AE6: % PoC
G7: =IF(Menu!$G$10="Português","30/06/2026","06.30.2026") -> 30/06/2026 | H7: =IF(Menu!$G$10="Português","31/03/2026","03.31.2026") -> 31/03/2026 | I7: =IF(Menu!$G$10="Português","31/12/2025","12.31.2025") -> 31/12/2025 | J7: =IF(Menu!$G$10="Português","30/09/2025","09.30.2025") -> 30/09/2025 | K7: =IF(Menu!$G$10="Português","30/06/2025","06.30.2025") -> 30/06/2025 | L7: =IF(Menu!$G$10="Português","31/03/2025","03.31.2025") -> 31/03/2025 | M7: =IF(Menu!$G$10="Português","31/12/2024","12.31.2024") -> 31/12/2024 | N7: =IF(Menu!$G$10="Português","30/09/2024","09.30.2024") -> 30/09/2024 | O7: =IF(Menu!$G$10="Português","30/06/2024","06.30.2024") -> 30/06/2024 | P7: =IF(Menu!$G$10="Português","31/03/2024","03.31.2024") -> 31/03/2024 | Q7: =IF(Menu!$G$10="Português","31/12/2023","12.31.2023") -> 31/12/2023 | R7: =IF(Menu!$G$10="Português","30/09/2023","09.30.2023") -> 30/09/2023 | S7: =IF(Menu!$G$10="Português","30/06/2023","06.30.2023") -> 30/06/2023 | T7: =IF(Menu!$G$10="Português","31/03/2023","03.31.2023") -> 31/03/2023 | U7: =IF(Menu!$G$10="Português","31/12/2022","12.31.2022") -> 31/12/2022 | V7: =IF(Menu!$G$10="Português","30/09/2022","09.30.2022") -> 30/09/2022 | W7: =IF(Menu!$G$10="Português","30/06/2022","06.30.2022") -> 30/06/2022 | X7: =IF(Menu!$G$10="Português","31/03/2022","03.31.2022") -> 31/03/2022 | Y7: =IF(Menu!$G$10="Português","31/12/2021","12.31.2021") -> 31/12/2021 | Z7: =IF(Menu!$G$10="Português","30/09/2021","09.30.2021") -> 30/09/2021 | AA7: =IF(Menu!$G$10="Português","30/06/2021","06.30.2021") -> 30/06/2021 | AB7: =IF(Menu!$G$10="Português","31/03/2021","03.31.2021") -> 31/03/2021 | AC7: =IF(Menu!$G$10="Português","31/12/2020","12.31.2020") -> 31/12/2020 | AD7: =IF(Menu!$G$10="Português","30/09/2020","09.30.2020") -> 30/09/2020 | AE7: =IF(Menu!$G$10="Português","30/06/2026","06.30.2026") -> 30/06/2026 | AF7: =IF(Menu!$G$10="Português","31/03/2026","03.31.2026") -> 31/03/2026 | AG7: =IF(Menu!$G$10="Português","31/12/2025","12.31.2025") -> 31/12/2025 | AH7: =IF(Menu!$G$10="Português","30/09/2025","09.30.2025") -> 30/09/2025 | AI7: =IF(Menu!$G$10="Português","30/06/2025","06.30.2025") -> 30/06/2025 | AJ7: =IF(Menu!$G$10="Português","31/03/2025","03.31.2025") -> 31/03/2025 | AK7: =IF(Menu!$G$10="Português","31/12/2024","12.31.2024") -> 31/12/2024 | AL7: =IF(Menu!$G$10="Português","30/09/2024","09.30.2024") -> 30/09/2024 | AM7: =IF(Menu!$G$10="Português","30/06/2024","06.30.2024") -> 30/06/2024 | AN7: =IF(Menu!$G$10="Português","31/03/2024","03.31.2024") -> 31/03/2024 | AO7: =IF(Menu!$G$10="Português","31/12/2023","12.31.2023") -> 31/12/2023 | AP7: =IF(Menu!$G$10="Português","30/09/2023","09.30.2023") -> 30/09/2023 | AQ7: =IF(Menu!$G$10="Português","30/06/2023","06.30.2023") -> 30/06/2023 | AR7: =IF(Menu!$G$10="Português","31/03/2023","03.31.2023") -> 31/03/2023 | AS7: =IF(Menu!$G$10="Português","31/12/2022","12.31.2022") -> 31/12/2022 | AT7: =IF(Menu!$G$10="Português","30/09/2022","09.30.2022") -> 30/09/2022 | AU7: =IF(Menu!$G$10="Português","30/06/2022","06.30.2022") -> 30/06/2022 | AV7: =IF(Menu!$G$10="Português","31/03/2022","03.31.2022") -> 31/03/2022 | AW7: =IF(Menu!$G$10="Português","31/12/2021","12.31.2021") -> 31/12/2021 | AX7: =IF(Menu!$G$10="Português","30/09/2021","09.30.2021") -> 30/09/2021 | AY7: =IF(Menu!$G$10="Português","30/06/2021","06.30.2021") -> 30/06/2021 | AZ7: =IF(Menu!$G$10="Português","31/03/2021","03.31.2021") -> 31/03/2021 | BA7: =IF(Menu!$G$10="Português","31/12/2020","12.31.2020") -> 31/12/2020 | BB7: =IF(Menu!$G$10="Português","30/09/2020","09.30.2020") -> 30/09/2020
A8: 3T10 | B8: 3Q10 | D8: Ponta da Figueira | E8: =IF(Menu!$G$10="Português",A8,B8) -> 3T10 | F8: 0.25 | G8: 1 | H8: 1 | I8: 1 | J8: 0.997116 | K8: 0.997116 | L8: 0.994232 | M8: 0.994232 | N8: 0.994232 | O8: 0.994232 | P8: 1 | Q8: 1 | R8: 1 | S8: 1 | T8: 1 | U8: 1 | V8: 1 | W8: 1 | X8: 1 | Y8: 1 | Z8: 1 | AA8: 1 | AB8: 1 | AC8: 1 | AD8: 1 | AE8: 1 | AF8: 1 | AG8: 1 | AH8: 1 | AI8: 1 | AJ8: 1 | AK8: 1 | AL8: 1 | AM8: 1 | AN8: 1 | AO8: 1 | AP8: 1 | AQ8: 1 | AR8: 1 | AS8: 1 | AT8: 1 | AU8: 1 | AV8: 1 | AW8: 1 | AX8: 1 | AY8: 1 | AZ8: 1 | BA8: 1 | BB8: 1
A9: 4T10 | B9: 4Q10 | D9: Hom | E9: =IF(Menu!$G$10="Português",A9,B9) -> 4T10 | F9: 1 | G9: 0.99467 | H9: 0.99467 | I9: 0.99467 | J9: 0.99467 | K9: 0.99467 | L9: 0.994387 | M9: 0.994387 | N9: 0.994387 | O9: 0.989919 | P9: 0.989919 | Q9: 0.989919 | R9: 0.989919 | S9: 0.99 | T9: 0.989919 | U9: 0.99 | V9: 0.99 | W9: 0.99 | X9: 0.982985 | Y9: 0.98 | Z9: 0.98 | AA9: 0.98 | AB9: 0.98 | AC9: 0.98 | AD9: 0.98 | AE9: 1 | AF9: 1 | AG9: 1 | AH9: 1 | AI9: 1 | AJ9: 1 | AK9: 1 | AL9: 1 | AM9: 1 | AN9: 1 | AO9: 1 | AP9: 1 | AQ9: 1 | AR9: 1 | AS9: 1 | AT9: 1 | AU9: 1 | AV9: 1 | AW9: 1 | AX9: 1 | AY9: 1 | AZ9: 1 | BA9: 1 | BB9: 1
A10: 3T11 | B10: 3Q11 | D10: Grand Park Eucaliptos | E10: =IF(Menu!$G$10="Português",A10,B10) -> 3T11 | F10: 1 | G10: 0.998912 | H10: 0.998912 | I10: 0.998912 | J10: 0.998912 | K10: 0.998868 | L10: 0.998868 | M10: 0.998868 | N10: 0.998868 | O10: 0.998868 | P10: 0.998868 | Q10: 0.998868 | R10: 0.998868 | S10: 1 | T10: 0.998868 | U10: 1 | V10: 1 | W10: 1 | X10: 0.998868 | Y10: 0.99 | Z10: 0.99 | AA10: 0.99 | AB10: 0.99 | AC10: 0.99 | AD10: 0.99 | AE10: 1 | AF10: 1 | AG10: 1 | AH10: 1 | AI10: 1 | AJ10: 1 | AK10: 1 | AL10: 1 | AM10: 1 | AN10: 1 | AO10: 1 | AP10: 1 | AQ10: 1 | AR10: 1 | AS10: 1 | AT10: 1 | AU10: 1 | AV10: 1 | AW10: 1 | AX10: 1 | AY10: 1 | AZ10: 1 | BA10: 1 | BB10: 1
A11: 4T11 | B11: 4Q11 | D11: Cobal - Rubi | E11: =IF(Menu!$G$10="Português",A11,B11) -> 4T11 | F11: 1 | G11: 0.9995 | H11: 0.9995 | I11: 0.9995 | J11: 0.9995 | K11: 0.9995 | L11: 0.9995 | M11: 0.9995 | N11: 0.9995 | O11: 0.9995 | P11: 0.9995 | Q11: 0.99892 | R11: 0.99892 | S11: 1 | T11: 0.99892 | U11: 1 | V11: 1 | W11: 0.99 | X11: 0.983839 | Y11: 0.98 | Z11: 0.98 | AA11: 0.98 | AB11: 0.99 | AC11: 0.99 | AD11: 0.99 | AE11: 1 | AF11: 1 | AG11: 1 | AH11: 1 | AI11: 1 | AJ11: 1 | AK11: 1 | AL11: 1 | AM11: 1 | AN11: 1 | AO11: 1 | AP11: 1 | AQ11: 1 | AR11: 1 | AS11: 1 | AT11: 1 | AU11: 1 | AV11: 1 | AW11: 1 | AX11: 1 | AY11: 1 | AZ11: 1 | BA11: 1 | BB11: 1
A12: 3T12 | B12: 3Q12 | D12: Design Offece Center | E12: =IF(Menu!$G$10="Português",A12,B12) -> 3T12 | F12: 1 | G12: 1 | H12: 1 | I12: 1 | J12: 1 | K12: 1 | L12: 1 | M12: 1 | N12: 0.996493 | O12: 0.992935 | P12: 0.996442 | Q12: 0.992403 | R12: 0.992403 | S12: 0.99 | T12: 0.988333 | U12: 0.97 | V12: 0.98 | W12: 0.98 | X12: 0.988333 | Y12: 0.99 | Z12: 0.98 | AA12: 0.98 | AB12: 0.97 | AC12: 0.97 | AD12: 0.97 | AE12: 1 | AF12: 1 | AG12: 1 | AH12: 1 | AI12: 1 | AJ12: 1 | AK12: 1 | AL12: 1 | AM12: 1 | AN12: 1 | AO12: 1 | AP12: 1 | AQ12: 1 | AR12: 1 | AS12: 1 | AT12: 1 | AU12: 1 | AV12: 1 | AW12: 1 | AX12: 1 | AY12: 1 | AZ12: 1 | BA12: 1 | BB12: 1
A13: 4T12 | B13: 4Q12 | D13: Hom lindoia | E13: =IF(Menu!$G$10="Português",A13,B13) -> 4T12 | F13: 1 | G13: 0.988063 | H13: 0.98512 | I13: 0.982253 | J13: 0.982253 | K13: 0.976557 | L13: 0.973667 | M13: 0.967876 | N13: 0.953512 | O13: 0.938775 | P13: 0.932966 | Q13: 0.920866 | R13: 0.91802 | S13: 0.92 | T13: 0.914926 | U13: 0.85 | V13: 0.91 | W13: 0.91 | X13: 0.902996 | Y13: 0.95 | Z13: 0.94 | AA13: 0.94 | AB13: 0.94 | AC13: 0.94 | AD13: 0.93 | AE13: 1 | AF13: 1 | AG13: 1 | AH13: 1 | AI13: 1 | AJ13: 1 | AK13: 1 | AL13: 1 | AM13: 1 | AN13: 1 | AO13: 1 | AP13: 1 | AQ13: 1 | AR13: 1 | AS13: 1 | AT13: 1 | AU13: 1 | AV13: 1 | AW13: 1 | AX13: 1 | AY13: 1 | AZ13: 1 | BA13: 1 | BB13: 1
A14: 4T12 | B14: 4Q12 | D14: Nine | E14: =IF(Menu!$G$10="Português",A14,B14) -> 4T12 | F14: 1 | G14: 0.989968 | H14: 0.989508 | I14: 0.988588 | J14: 0.988588 | K14: 0.988588 | L14: 0.988588 | M14: 0.988588 | N14: 0.988588 | O14: 0.988588 | P14: 0.988588 | Q14: 0.988588 | R14: 0.988588 | S14: 0.99 | T14: 0.988588 | U14: 1 | V14: 0.99 | W14: 0.99 | X14: 0.988588 | Y14: 0.99 | Z14: 0.99 | AA14: 0.99 | AB14: 0.99 | AC14: 0.99 | AD14: 0.99 | AE14: 1 | AF14: 1 | AG14: 1 | AH14: 1 | AI14: 1 | AJ14: 1 | AK14: 1 | AL14: 1 | AM14: 1 | AN14: 1 | AO14: 1 | AP14: 1 | AQ14: 1 | AR14: 1 | AS14: 1 | AT14: 1 | AU14: 1 | AV14: 1 | AW14: 1 | AX14: 1 | AY14: 1 | AZ14: 1 | BA14: 1 | BB14: 1
A15: 1T13 | B15: 1Q13 | D15: Icon - RS | E15: =IF(Menu!$G$10="Português",A15,B15) -> 1T13 | F15: 1 | G15: 0.98679868 | H15: 0.95049505 | I15: 0.97359736 | J15: 0.97689769 | K15: 0.96369637 | L15: 0.95379538 | M15: 0.94389439 | N15: 0.93729373 | O15: 0.9339934 | P15: 0.92409241 | Q15: 0.91089109 | R15: 0.9009901 | S15: 0.9 | T15: 0.90759076 | U15: 0.9 | V15: 0.9 | W15: 0.9 | X15: 0.90759076 | Y15: 0.9 | Z15: 0.86 | AA15: 0.86 | AB15: 0.85 | AC15: 0.85 | AD15: 0.87 | AE15: 1 | AF15: 1 | AG15: 1 | AH15: 1 | AI15: 1 | AJ15: 1 | AK15: 1 | AL15: 1 | AM15: 1 | AN15: 1 | AO15: 1 | AP15: 1 | AQ15: 1 | AR15: 1 | AS15: 1 | AT15: 1 | AU15: 1 | AV15: 1 | AW15: 1 | AX15: 1 | AY15: 1 | AZ15: 1 | BA15: 1 | BB15: 1
A16: 2T13 | B16: 2Q13 | D16: Icon RS - 2º Fase | E16: =IF(Menu!$G$10="Português",A16,B16) -> 2T13 | F16: 1 | G16: 1 | H16: 0.99695122 | I16: 0.99695122 | J16: 0.99695122 | K16: 0.99695122 | L16: 0.99695122 | M16: 0.99695122 | N16: 0.99695122 | O16: 0.99695122 | P16: 0.99390244 | Q16: 0.99085366 | R16: 0.99085366 | S16: 0.99 | T16: 0.99695122 | U16: 1 | V16: 0.99 | W16: 1 | X16: 0.9847561 | Y16: 0.99 | Z16: 0.98 | AA16: 0.98 | AB16: 0.98 | AC16: 0.99 | AD16: 0.99 | AE16: 1 | AF16: 1 | AG16: 1 | AH16: 1 | AI16: 1 | AJ16: 1 | AK16: 1 | AL16: 1 | AM16: 1 | AN16: 1 | AO16: 1 | AP16: 1 | AQ16: 1 | AR16: 1 | AS16: 1 | AT16: 1 | AU16: 1 | AV16: 1 | AW16: 1 | AX16: 1 | AY16: 1 | AZ16: 1 | BA16: 1 | BB16: 1
A17: 4T13 | B17: 4Q13 | D17: Terrara | E17: =IF(Menu!$G$10="Português",A17,B17) -> 4T13 | F17: 1 | G17: 1 | H17: 1 | I17: 1 | J17: 1 | K17: 1 | L17: 1 | M17: 1 | N17: 1 | O17: 1 | P17: 1 | Q17: 1 | R17: 1 | S17: 1 | T17: 1 | U17: 1 | V17: 1 | W17: 1 | X17: 1 | Y17: 1 | Z17: 1 | AA17: 1 | AB17: 1 | AC17: 1 | AD17: 1 | AE17: 1 | AF17: 1 | AG17: 1 | AH17: 1 | AI17: 1 | AJ17: 1 | AK17: 1 | AL17: 1 | AM17: 1 | AN17: 1 | AO17: 1 | AP17: 1 | AQ17: 1 | AR17: 1 | AS17: 1 | AT17: 1 | AU17: 1 | AV17: 1 | AW17: 1 | AX17: 1 | AY17: 1 | AZ17: 1 | BA17: 1 | BB17: 1
A18: 4T13 | B18: 4Q13 | D18: Window RS | E18: =IF(Menu!$G$10="Português",A18,B18) -> 4T13 | F18: 1 | G18: 1 | H18: 1 | I18: 1 | J18: 1 | K18: 1 | L18: 1 | M18: 1 | N18: 0.998562 | O18: 0.998562 | P18: 0.998562 | Q18: 0.998562 | R18: 0.998562 | S18: 0.99 | T18: 0.994248 | U18: 1 | V18: 0.99 | W18: 0.99 | X18: 0.994248 | Y18: 0.99 | Z18: 0.99 | AA18: 0.99 | AB18: 0.99 | AC18: 0.99 | AD18: 0.99 | AE18: 1 | AF18: 1 | AG18: 1 | AH18: 1 | AI18: 1 | AJ18: 1 | AK18: 1 | AL18: 1 | AM18: 1 | AN18: 1 | AO18: 1 | AP18: 1 | AQ18: 1 | AR18: 1 | AS18: 1 | AT18: 1 | AU18: 1 | AV18: 1 | AW18: 1 | AX18: 1 | AY18: 1 | AZ18: 1 | BA18: 1 | BB18: 1
A19: 4T13 | B19: 4Q13 | D19: Anita Garibaldi | E19: =IF(Menu!$G$10="Português",A19,B19) -> 4T13 | F19: 1 | G19: 0.988108 | H19: 0.98279 | I19: 0.973192 | J19: 0.955004 | K19: 0.945453 | L19: 0.945453 | M19: 0.945453 | N19: 0.945453 | O19: 0.941173 | P19: 0.937884 | Q19: 0.937884 | R19: 0.933604 | S19: 0.93 | T19: 0.933604 | U19: 0.92 | V19: 0.94 | W19: 0.93 | X19: 0.937884 | Y19: 0.93 | Z19: 0.93 | AA19: 0.92 | AB19: 0.93 | AC19: 0.93 | AD19: 0.92 | AE19: 1 | AF19: 1 | AG19: 1 | AH19: 1 | AI19: 1 | AJ19: 1 | AK19: 1 | AL19: 1 | AM19: 1 | AN19: 1 | AO19: 1 | AP19: 1 | AQ19: 1 | AR19: 1 | AS19: 1 | AT19: 1 | AU19: 1 | AV19: 1 | AW19: 1 | AX19: 1 | AY19: 1 | AZ19: 1 | BA19: 1 | BB19: 1
... A59: 3T20 | B59: 3Q20 | D59: Carlos Gomes Square - Fase 2 | E59: =IF(Menu!$G$10="Português",A59,B59) -> 3T20 | F59: 1 | G59: 0.97765363 | H59: 0.95530726 | I59: 0.92178771 | J59: 0.91061453 | K59: 0.90502793 | L59: 0.89385475 | M59: 0.91620112 | N59: 0.91620112 | O59: 0.91620112 | P59: 0.94413408 | Q59: 0.91061453 | R59: 0.88268156 | S59: 0.87 | T59: 0.84916201 | U59: 0.83 | V59: 0.84 | W59: 0.84 | X59: 0.81005587 | Y59: 0.83 | Z59: 0.8 | AA59: 0.71 | AB59: 0.69 | AC59: 0.69 | AD59: 0.42 | AE59: 1 | AF59: 1 | AG59: 1 | AH59: 1 | AI59: 1 | AJ59: 1 | AK59: 1 | AL59: 0.96435785 | AM59: 0.93351673 | AN59: 0.9256 | AO59: 0.9037 | AP59: 0.8468 | AQ59: 0.81 | AR59: 0.7624 | AS59: 0.72 | AT59: 0.68 | AU59: 0.65 | AV59: 0.6005 | AW59: 0.55 | AX59: 0.47 | AY59: 0.42 | AZ59: 0.39 | BA59: 0.38 | BB59: 0.38
A60: 4T20 | B60: 4Q20 | D60: Supreme Altos do Central Parque | E60: =IF(Menu!$G$10="Português",A60,B60) -> 4T20 | F60: 1 | G60: 0.993085 | H60: 0.988431 | I60: 0.996892 | J60: 0.993085 | K60: 0.981454 | L60: 0.899796 | M60: 0.884312 | N60: 0.880135 | O60: 0.879675 | P60: 0.877689 | Q60: 0.918617 | R60: 0.894865 | S60: 0.91 | T60: 0.881651 | U60: 0.76 | V60: 0.83 | W60: 0.8 | X60: 0.667398 | Y60: 0.64 | Z60: 0.55 | AA60: 0.49 | AB60: 0.36 | AC60: 0.32 | AE60: 1 | AF60: 1 | AG60: 1 | AH60: 1 | AI60: 1 | AJ60: 1 | AK60: 1 | AL60: 1 | AM60: 1 | AN60: 1 | AO60: 1 | AP60: 0.9474 | AQ60: 0.92 | AR60: 0.8745 | AS60: 0.84 | AT60: 0.79 | AU60: 0.72 | AV60: 0.638 | AW60: 0.57 | AX60: 0.47 | AY60: 0.38 | AZ60: 0.32 | BA60: 0.32
A61: 1T21 | B61: 1Q21 | D61: Gran Park Lindoia - F3 | E61: =IF(Menu!$G$10="Português",A61,B61) -> 1T21 | F61: 1 | G61: 0.99472991 | H61: 0.99472991 | I61: 0.99472991 | J61: 0.98418972 | K61: 0.98418972 | L61: 0.98418972 | M61: 0.97364954 | N61: 0.96310935 | O61: 0.93675889 | P61: 0.92094862 | Q61: 0.86824769 | R61: 0.86824769 | S61: 0.85 | T61: 0.80500659 | U61: 0.76 | V61: 0.72 | W61: 0.6 | X61: 0.53096179 | Y61: 0.53 | Z61: 0.43 | AA61: 0.39 | AB61: 0.17 | AE61: 1 | AF61: 1 | AG61: 1 | AH61: 1 | AI61: 1 | AJ61: 1 | AK61: 1 | AL61: 1 | AM61: 1 | AN61: 1 | AO61: 1 | AP61: 1 | AQ61: 1 | AR61: 0.9763 | AS61: 0.95 | AT61: 0.94 | AU61: 0.92 | AV61: 0.9217 | AW61: 0.91 | AX61: 0.88 | AY61: 0.87 | AZ61: 0.81
A62: 1T21 | B62: 1Q21 | D62: Go Rio Branco | E62: =IF(Menu!$G$10="Português",A62,B62) -> 1T21 | F62: 1 | G62: 0.997009 | H62: 0.991708 | I62: 0.970175 | J62: 0.966162 | K62: 0.97716 | L62: 0.95596 | M62: 0.952969 | N62: 0.952969 | O62: 0.956645 | P62: 0.968857 | Q62: 0.978789 | R62: 0.980213 | S62: 1 | T62: 0.973312 | U62: 0.85 | V62: 0.81 | W62: 0.81 | X62: 0.81982 | Y62: 0.83 | Z62: 0.82 | AA62: 0.75 | AB62: 0.51 | AE62: 1 | AF62: 1 | AG62: 1 | AH62: 1 | AI62: 1 | AJ62: 1 | AK62: 1 | AL62: 1 | AM62: 1 | AN62: 1 | AO62: 0.9754 | AP62: 0.9301 | AQ62: 0.86 | AR62: 0.7989 | AS62: 0.74 | AT62: 0.66 | AU62: 0.59 | AV62: 0.5167 | AW62: 0.43 | AX62: 0.39 | AY62: 0.34 | AZ62: 0.34
A63: 1T21 | B63: 1Q21 | D63: Casaviva | E63: =IF(Menu!$G$10="Português",A63,B63) -> 1T21 | F63: 0.5 | G63: 0.978917 | H63: 0.978917 | I63: 0.981748 | J63: 0.981748 | K63: 0.97979 | L63: 0.97979 | M63: 0.98426 | N63: 0.981368 | O63: 0.981368 | P63: 0.981368 | Q63: 0.986157 | R63: 1 | S63: 1 | T63: 1 | U63: 1 | V63: 1 | W63: 1 | X63: 1 | Y63: 1 | Z63: 1 | AA63: 1 | AB63: 1 | AE63: 1 | AF63: 1 | AG63: 1 | AH63: 1 | AI63: 1 | AJ63: 1 | AK63: 1 | AL63: 1 | AM63: 1 | AN63: 1 | AO63: 1 | AP63: 1 | AQ63: 0.95 | AR63: 0.9537 | AS63: 0.91 | AT63: 0.88 | AU63: 0.77 | AV63: 0.6461 | AW63: 0.58 | AX63: 0.53 | AY63: 0.5 | AZ63: 0.48
A64: 1T21 | B64: 1Q21 | D64: Botanique Residence | E64: =IF(Menu!$G$10="Português",A64,B64) -> 1T21 | F64: 1 | G64: 0.982753 | H64: 0.960507 | I64: 0.960754 | J64: 0.944841 | K64: 0.910443 | L64: 0.903921 | M64: 0.871344 | N64: 0.880969 | O64: 0.903477 | P64: 0.919203 | Q64: 0.905636 | R64: 0.91242 | S64: 0.93 | T64: 0.91417 | U64: 0.91 | V64: 0.91 | W64: 0.9 | X64: 0.594786 | Y64: 0.6 | Z64: 0.58 | AA64: 0.5 | AB64: 0.36 | AE64: 1 | AF64: 1 | AG64: 1 | AH64: 1 | AI64: 1 | AJ64: 1 | AK64: 1 | AL64: 0.96861638 | AM64: 0.93552256 | AN64: 0.9175 | AO64: 0.8921 | AP64: 0.8328 | AQ64: 0.78 | AR64: 0.73 | AS64: 0.69 | AT64: 0.61 | AU64: 0.54 | AV64: 0.4698 | AW64: 0.43 | AX64: 0.4 | AY64: 0.39 | AZ64: 0.4
A65: 2T21 | B65: 2Q21 | D65: Seen Boa Vista | E65: =IF(Menu!$G$10="Português",A65,B65) -> 2T21 | F65: 1 | G65: 0.977686 | H65: 0.977686 | I65: 0.977686 | J65: 0.963045 | K65: 0.96962 | L65: 0.984767 | M65: 0.970059 | N65: 0.954804 | O65: 0.910095 | P65: 0.910095 | Q65: 0.864428 | R65: 0.772162 | S65: 0.79 | T65: 0.728279 | U65: 0.54 | V65: 0.61 | W65: 0.61 | X65: 0.471613 | Y65: 0.47 | Z65: 0.42 | AA65: 0.33 | AE65: 1 | AF65: 1 | AG65: 1 | AH65: 1 | AI65: 1 | AJ65: 1 | AK65: 0.93729696 | AL65: 0.90604315 | AM65: 0.85958286 | AN65: 0.8324 | AO65: 0.805 | AP65: 0.7639 | AQ65: 0.72 | AR65: 0.6683 | AS65: 0.62 | AT65: 0.55 | AU65: 0.49 | AV65: 0.4505 | AW65: 0.42 | AX65: 0.39 | AY65: 0.39
A66: 3T21 | B66: 3Q21 | D66: Hillside | E66: =IF(Menu!$G$10="Português",A66,B66) -> 3T21 | F66: 1 | G66: 1 | H66: 1 | I66: 0.976449 | J66: 0.976449 | K66: 0.95222 | L66: 0.928204 | M66: 0.928204 | N66: 0.903975 | O66: 0.904188 | P66: 0.928204 | Q66: 0.952433 | R66: 0.903975 | S66: 0.88 | T66: 0.853479 | U66: 0.65 | V66: 0.71 | W66: 0.69 | X66: 0.358632 | Y66: 0.36 | Z66: 0.29 | AE66: 1 | AF66: 1 | AG66: 1 | AH66: 1 | AI66: 1 | AJ66: 1 | AK66: 1 | AL66: 1 | AM66: 0.95641688 | AN66: 0.9398 | AO66: 0.9044 | AP66: 0.8146 | AQ66: 0.73 | AR66: 0.6475 | AS66: 0.56 | AT66: 0.48 | AU66: 0.42 | AV66: 0.3565 | AW66: 0.32 | AX66: 0.31
A67: 3T21 | B67: 3Q21 | D67: Arte Country Club | E67: =IF(Menu!$G$10="Português",A67,B67) -> 3T21 | F67: 0.82 | G67: 0.955332 | H67: 0.932185 | I67: 0.932185 | J67: 0.931704 | K67: 0.931676 | L67: 0.931676 | M67: 0.931676 | N67: 0.977195 | O67: 0.977195 | P67: 0.97717 | Q67: 0.954821 | R67: 0.932443 | S67: 0.93 | T67: 0.926309 | U67: 0.81 | V67: 0.82 | W67: 0.79 | X67: 0.734042 | Y67: 0.68 | Z67: 0.41 | AE67: 1 | AF67: 1 | AG67: 1 | AH67: 1 | AI67: 1 | AJ67: 1 | AK67: 0.95599486 | AL67: 0.93544866 | AM67: 0.89265356 | AN67: 0.8539 | AO67: 0.8207 | AP67: 0.7252 | AQ67: 0.7 | AR67: 0.6438 | AS67: 0.57 | AT67: 0.51 | AU67: 0.46 | AV67: 0.4066 | AW67: 0.38 | AX67: 0.37
A68: 4T21 | B68: 4Q21 | D68: GO Cidade Baixa | E68: =IF(Menu!$G$10="Português",A68,B68) -> 4T21 | F68: 1 | G68: 0.912449 | H68: 0.894176 | I68: 0.850934 | J68: 0.876091 | K68: 0.917344 | L68: 0.899128 | M68: 0.897123 | N68: 0.925132 | O68: 0.945472 | P68: 0.929285 | Q68: 0.812546 | R68: 0.80417 | S68: 0.76 | T68: 0.744475 | U68: 0.77 | V68: 0.67 | W68: 0.6 | X68: 0.473444 | Y68: 0.38 | AE68: 1 | AF68: 1 | AG68: 1 | AH68: 1 | AI68: 1 | AJ68: 0.92620811 | AK68: 0.87772676 | AL68: 0.83539379 | AM68: 0.77567528 | AN68: 0.7376 | AO68: 0.7053 | AP68: 0.6252 | AQ68: 0.59 | AR68: 0.5318 | AS68: 0.46 | AT68: 0.4 | AU68: 0.35 | AV68: 0.3369 | AW68: 0.34
A69: 4T21 | B69: 4Q21 | D69: GO Carlos Gomes | E69: =IF(Menu!$G$10="Português",A69,B69) -> 4T21 | F69: 1 | G69: 0.935774 | H69: 0.935774 | I69: 0.816919 | J69: 0.823126 | K69: 0.817822 | L69: 0.817859 | M69: 0.829485 | N69: 0.872057 | O69: 0.895079 | P69: 0.895079 | Q69: 0.695644 | R69: 0.74436 | S69: 0.75 | T69: 0.662384 | U69: 0.55 | V69: 0.54 | W69: 0.48 | X69: 0.433873 | Y69: 0.43 | AE69: 1 | AF69: 1 | AG69: 1 | AH69: 1 | AI69: 1 | AJ69: 1 | AK69: 1 | AL69: 0.924847 | AM69: 0.8811677 | AN69: 0.8227 | AO69: 0.8126 | AP69: 0.7391 | AQ69: 0.69 | AR69: 0.609 | AS69: 0.53 | AT69: 0.47 | AU69: 0.44 | AV69: 0.395 | AW69: 0.38
A70: 1T22 | B70: 1Q22 | D70: Nilo Square - Residencial | E70: =IF(Menu!$G$10="Português",A70,B70) -> 1T22 | F70: 0.5 | G70: 0.85833333 | H70: 0.88333333 | I70: 0.83333333 | J70: 0.81666667 | K70: 0.825 | L70: 0.80833333 | M70: 0.8 | N70: 0.73333333 | O70: 0.73333333 | P70: 0.71666667 | Q70: 0.66666667 | R70: 0.63333333 | S70: 0.56 | T70: 0.48333333 | U70: 0.38 | V70: 0.36 | W70: 0.3 | X70: 0.129595 | AE70: 1 | AF70: 0.90675169 | AG70: 0.86319013 | AH70: 0.8170109 | AI70: 0.77138816 | AJ70: 0.71294769 | AK70: 0.67125156 | AL70: 0.61786276 | AM70: 0.56344431 | AN70: 0.5283 | AO70: 0.4773 | AP70: 0.3446 | AQ70: 0.3 | AR70: 0.2606 | AS70: 0.2637 | AT70: 0.26 | AU70: 0.26 | AV70: 0.2166
A71: 1T22 | B71: 1Q22 | D71: Zen Concept Resort | E71: =IF(Menu!$G$10="Português",A71,B71) -> 1T22 | F71: 0.35 | G71: 0.983336 | H71: 0.986975 | I71: 0.986975 | J71: 0.986975 | K71: 0.986975 | L71: 0.986975 | M71: 0.986975 | N71: 0.986975 | O71: 0.986975 | P71: 0.986975 | Q71: 0.991648 | R71: 0.991648 | S71: 0.99 | T71: 0.99407 | U71: 0.7 | V71: 0.99 | W71: 0.99 | X71: 0.99407 | AE71: 1 | AF71: 1 | AG71: 1 | AH71: 1 | AI71: 1 | AJ71: 1 | AK71: 1 | AL71: 0.95404867 | AM71: 0.92219081 | AN71: 0.8966 | AO71: 0.8509 | AP71: 0.799 | AQ71: 0.72 | AR71: 0.6287 | AS71: 0.59 | AT71: 0.54 | AU71: 0.52 | AV71: 0.5198
A72: 1T22 | B72: 1Q22 | D72: Open Protásio | E72: =IF(Menu!$G$10="Português",A72,B72) -> 1T22 | F72: 1 | G72: 1 | H72: 1 | I72: 1 | J72: 1 | K72: 1 | L72: 0.923159 | M72: 0.923159 | N72: 0.90599 | O72: 0.906239 | P72: 0.900599 | Q72: 0.911356 | R72: 0.876371 | S72: 0.9 | T72: 0.789971 | U72: 0.62 | V72: 0.51 | W72: 0.37 | X72: 0.148357 | AE72: 1 | AF72: 1 | AG72: 1 | AH72: 1 | AI72: 1 | AJ72: 1 | AK72: 0.91652745 | AL72: 0.87709815 | AM72: 0.79871539 | AN72: 0.6963 | AO72: 0.6607 | AP72: 0.5656 | AQ72: 0.47 | AR72: 0.391 | AS72: 0.33 | AT72: 0.27 | AU72: 0.24 | AV72: 0.0405
